Workbook

Sheet PLAY
A1: Games
D2: Battleship | H2: Spreadsheets can be a great place for you to build your own games. Ryan has built one of his early favorites, Battleship, where you learn graphing as you try to sink your opponent's battleships. Making your own games can be great fun. Try it.
I5: I | J5: J | K5: K | L5: L | M5: M | N5: N | O5: O | P5: P | Q5: Q | R5: R | X5: X | Y5: Y | Z5: Z | AA5: AA | AB5: AB | AC5: AC | AD5: AD | AE5: AE | AF5: AF | AG5: AG
D6: The first step in Battleship is to hide your ships! Choose a Player 1 or 2 and go to that sheet to place your ships. Don't peek! | H6: 6 | I6: =I19*('Player 2'!I6+1) -> 0 | J6: =J19*('Player 2'!J6+1) -> 0 | K6: =K19*('Player 2'!K6+1) -> 0 | L6: =L19*('Player 2'!L6+1) -> 0 | M6: =M19*('Player 2'!M6+1) -> 0 | N6: =N19*('Player 2'!N6+1) -> 0 | O6: =O19*('Player 2'!O6+1) -> 0 | P6: =P19*('Player 2'!P6+1) -> 0 | ... R6: =R19*('Player 2'!R6+1) -> 0 | W6: 6 | X6: =X19*('Player 1'!X6+1) -> 0 | Y6: =Y19*('Player 1'!Y6+1) -> 0 | Z6: =Z19*('Player 1'!Z6+1) -> 0 | AA6: =AA19*('Player 1'!AA6+1) -> 0 | AB6: =AB19*('Player 1'!AB6+1) -> 0 | AC6: =AC19*('Player 1'!AC6+1) -> 0 | AD6: =AD19*('Player 1'!AD6+1) -> 0 | AE6: =AE19*('Player 1'!AE6+1) -> 0 | ... AG6: =AG19*('Player 1'!AG6+1) -> 0 | AM6: =CONCATENATE("Player 1 has"," ",BB6," ","ships left") -> Player 1 has 4 ships left | BB6: =ROUNDUP((24-(SUMIF(X6:AG15,2)))/6,0) -> 4
H7: 7 | I7: =I20*('Player 2'!I7+1) -> 0 | J7: =J20*('Player 2'!J7+1) -> 0 | K7: =K20*('Player 2'!K7+1) -> 0 | L7: =L20*('Player 2'!L7+1) -> 0 | M7: =M20*('Player 2'!M7+1) -> 0 | N7: =N20*('Player 2'!N7+1) -> 0 | O7: =O20*('Player 2'!O7+1) -> 0 | P7: =P20*('Player 2'!P7+1) -> 0 | ... R7: =R20*('Player 2'!R7+1) -> 0 | W7: 7 | X7: =X20*('Player 1'!X7+1) -> 0 | Y7: =Y20*('Player 1'!Y7+1) -> 0 | Z7: =Z20*('Player 1'!Z7+1) -> 0 | AA7: =AA20*('Player 1'!AA7+1) -> 0 | AB7: =AB20*('Player 1'!AB7+1) -> 0 | AC7: =AC20*('Player 1'!AC7+1) -> 0 | AD7: =AD20*('Player 1'!AD7+1) -> 0 | AE7: =AE20*('Player 1'!AE7+1) -> 0 | ... AG7: =AG20*('Player 1'!AG7+1) -> 0
H8: 8 | I8: =I21*('Player 2'!I8+1) -> 0 | J8: =J21*('Player 2'!J8+1) -> 0 | K8: =K21*('Player 2'!K8+1) -> 0 | L8: =L21*('Player 2'!L8+1) -> 0 | M8: =M21*('Player 2'!M8+1) -> 0 | N8: =N21*('Player 2'!N8+1) -> 0 | O8: =O21*('Player 2'!O8+1) -> 0 | P8: =P21*('Player 2'!P8+1) -> 0 | ... R8: =R21*('Player 2'!R8+1) -> 0 | W8: 8 | X8: =X21*('Player 1'!X8+1) -> 0 | Y8: =Y21*('Player 1'!Y8+1) -> 0 | Z8: =Z21*('Player 1'!Z8+1) -> 0 | AA8: =AA21*('Player 1'!AA8+1) -> 0 | AB8: =AB21*('Player 1'!AB8+1) -> 0 | AC8: =AC21*('Player 1'!AC8+1) -> 0 | AD8: =AD21*('Player 1'!AD8+1) -> 0 | AE8: =AE21*('Player 1'!AE8+1) -> 0 | ... AG8: =AG21*('Player 1'!AG8+1) -> 0
H9: 9 | I9: =I22*('Player 2'!I9+1) -> 0 | J9: =J22*('Player 2'!J9+1) -> 0 | K9: =K22*('Player 2'!K9+1) -> 0 | L9: =L22*('Player 2'!L9+1) -> 0 | M9: =M22*('Player 2'!M9+1) -> 0 | N9: =N22*('Player 2'!N9+1) -> 0 | O9: =O22*('Player 2'!O9+1) -> 0 | P9: =P22*('Player 2'!P9+1) -> 0 | ... R9: =R22*('Player 2'!R9+1) -> 0 | W9: 9 | X9: =X22*('Player 1'!X9+1) -> 0 | Y9: =Y22*('Player 1'!Y9+1) -> 0 | Z9: =Z22*('Player 1'!Z9+1) -> 0 | AA9: =AA22*('Player 1'!AA9+1) -> 0 | AB9: =AB22*('Player 1'!AB9+1) -> 0 | AC9: =AC22*('Player 1'!AC9+1) -> 0 | AD9: =AD22*('Player 1'!AD9+1) -> 0 | AE9: =AE22*('Player 1'!AE9+1) -> 0 | ... AG9: =AG22*('Player 1'!AG9+1) -> 0 | AM9: =CONCATENATE("Player 2 has"," ",BB9," ","ships left") -> Player 2 has 4 ships left | BB9: =ROUNDUP((24-(SUMIF(I6:R15,2)))/6,0) -> 4
D10: Once you've hidden your ships, take turns guessing where each other's are. Guess a coordinate, by entering a 1 into the cell of your bottom grid. If you misses, you will see a white square on your top grid. If you hit, you will see it turn orange. | H10: 10 | I10: =I23*('Player 2'!I10+1) -> 0 | J10: =J23*('Player 2'!J10+1) -> 0 | K10: =K23*('Player 2'!K10+1) -> 0 | L10: =L23*('Player 2'!L10+1) -> 0 | M10: =M23*('Player 2'!M10+1) -> 0 | N10: =N23*('Player 2'!N10+1) -> 0 | O10: =O23*('Player 2'!O10+1) -> 0 | P10: =P23*('Player 2'!P10+1) -> 0 | ... R10: =R23*('Player 2'!R10+1) -> 0 | W10: 10 | X10: =X23*('Player 1'!X10+1) -> 0 | Y10: =Y23*('Player 1'!Y10+1) -> 0 | Z10: =Z23*('Player 1'!Z10+1) -> 0 | AA10: =AA23*('Player 1'!AA10+1) -> 0 | AB10: =AB23*('Player 1'!AB10+1) -> 0 | AC10: =AC23*('Player 1'!AC10+1) -> 0 | AD10: =AD23*('Player 1'!AD10+1) -> 0 | AE10: =AE23*('Player 1'!AE10+1) -> 0 | ... AG10: =AG23*('Player 1'!AG10+1) -> 0
H11: 11 | I11: =I24*('Player 2'!I11+1) -> 0 | J11: =J24*('Player 2'!J11+1) -> 0 | K11: =K24*('Player 2'!K11+1) -> 0 | L11: =L24*('Player 2'!L11+1) -> 0 | M11: =M24*('Player 2'!M11+1) -> 0 | N11: =N24*('Player 2'!N11+1) -> 0 | O11: =O24*('Player 2'!O11+1) -> 0 | P11: =P24*('Player 2'!P11+1) -> 0 | ... R11: =R24*('Player 2'!R11+1) -> 0 | W11: 11 | X11: =X24*('Player 1'!X11+1) -> 0 | Y11: =Y24*('Player 1'!Y11+1) -> 0 | Z11: =Z24*('Player 1'!Z11+1) -> 0 | AA11: =AA24*('Player 1'!AA11+1) -> 0 | AB11: =AB24*('Player 1'!AB11+1) -> 0 | AC11: =AC24*('Player 1'!AC11+1) -> 0 | AD11: =AD24*('Player 1'!AD11+1) -> 0 | AE11: =AE24*('Player 1'!AE11+1) -> 0 | ... AG11: =AG24*('Player 1'!AG11+1) -> 0
H12: 12 | I12: =I25*('Player 2'!I12+1) -> 0 | J12: =J25*('Player 2'!J12+1) -> 0 | K12: =K25*('Player 2'!K12+1) -> 0 | L12: =L25*('Player 2'!L12+1) -> 0 | M12: =M25*('Player 2'!M12+1) -> 0 | N12: =N25*('Player 2'!N12+1) -> 0 | O12: =O25*('Player 2'!O12+1) -> 0 | P12: =P25*('Player 2'!P12+1) -> 0 | ... R12: =R25*('Player 2'!R12+1) -> 0 | W12: 12 | X12: =X25*('Player 1'!X12+1) -> 0 | Y12: =Y25*('Player 1'!Y12+1) -> 0 | Z12: =Z25*('Player 1'!Z12+1) -> 0 | AA12: =AA25*('Player 1'!AA12+1) -> 0 | AB12: =AB25*('Player 1'!AB12+1) -> 0 | AC12: =AC25*('Player 1'!AC12+1) -> 0 | AD12: =AD25*('Player 1'!AD12+1) -> 0 | AE12: =AE25*('Player 1'!AE12+1) -> 0 | ... AG12: =AG25*('Player 1'!AG12+1) -> 0
H13: 13 | I13: =I26*('Player 2'!I13+1) -> 0 | J13: =J26*('Player 2'!J13+1) -> 0 | K13: =K26*('Player 2'!K13+1) -> 0 | L13: =L26*('Player 2'!L13+1) -> 0 | M13: =M26*('Player 2'!M13+1) -> 0 | N13: =N26*('Player 2'!N13+1) -> 0 | O13: =O26*('Player 2'!O13+1) -> 0 | P13: =P26*('Player 2'!P13+1) -> 0 | ... R13: =R26*('Player 2'!R13+1) -> 0 | W13: 13 | X13: =X26*('Player 1'!X13+1) -> 0 | Y13: =Y26*('Player 1'!Y13+1) -> 0 | Z13: =Z26*('Player 1'!Z13+1) -> 0 | AA13: =AA26*('Player 1'!AA13+1) -> 0 | AB13: =AB26*('Player 1'!AB13+1) -> 0 | AC13: =AC26*('Player 1'!AC13+1) -> 0 | AD13: =AD26*('Player 1'!AD13+1) -> 0 | AE13: =AE26*('Player 1'!AE13+1) -> 0 | ... AG13: =AG26*('Player 1'!AG13+1) -> 0
H14: 14 | I14: =I27*('Player 2'!I14+1) -> 0 | J14: =J27*('Player 2'!J14+1) -> 0 | K14: =K27*('Player 2'!K14+1) -> 0 | L14: =L27*('Player 2'!L14+1) -> 0 | M14: =M27*('Player 2'!M14+1) -> 0 | N14: =N27*('Player 2'!N14+1) -> 0 | O14: =O27*('Player 2'!O14+1) -> 0 | P14: =P27*('Player 2'!P14+1) -> 0 | ... R14: =R27*('Player 2'!R14+1) -> 0 | W14: 14 | X14: =X27*('Player 1'!X14+1) -> 0 | Y14: =Y27*('Player 1'!Y14+1) -> 0 | Z14: =Z27*('Player 1'!Z14+1) -> 0 | AA14: =AA27*('Player 1'!AA14+1) -> 0 | AB14: =AB27*('Player 1'!AB14+1) -> 0 | AC14: =AC27*('Player 1'!AC14+1) -> 0 | AD14: =AD27*('Player 1'!AD14+1) -> 0 | AE14: =AE27*('Player 1'!AE14+1) -> 0 | ... AG14: =AG27*('Player 1'!AG14+1) -> 0
D15: Note: Battleship on paper uses numbers for the labels of both columns and rows. Because we are doing it on a spreadsheet we are using the spreadsheet row and column labels. | H15: 15 | I15: =I28*('Player 2'!I15+1) -> 0 | J15: =J28*('Player 2'!J15+1) -> 0 | K15: =K28*('Player 2'!K15+1) -> 0 | L15: =L28*('Player 2'!L15+1) -> 0 | M15: =M28*('Player 2'!M15+1) -> 0 | N15: =N28*('Player 2'!N15+1) -> 0 | O15: =O28*('Player 2'!O15+1) -> 0 | P15: =P28*('Player 2'!P15+1) -> 0 | ... R15: =R28*('Player 2'!R15+1) -> 0 | W15: 15 | X15: =X28*('Player 1'!X15+1) -> 0 | Y15: =Y28*('Player 1'!Y15+1) -> 0 | Z15: =Z28*('Player 1'!Z15+1) -> 0 | AA15: =AA28*('Player 1'!AA15+1) -> 0 | AB15: =AB28*('Player 1'!AB15+1) -> 0 | AC15: =AC28*('Player 1'!AC15+1) -> 0 | AD15: =AD28*('Player 1'!AD15+1) -> 0 | AE15: =AE28*('Player 1'!AE15+1) -> 0 | ... AG15: =AG28*('Player 1'!AG15+1) -> 0
I16: Your opponent's fleet. Don't guess here. | X16: Your opponent's fleet. Don't guess here.
H17: P L A Y E R O N E | W17: P L A Y E R T W O
I18: I | J18: J | K18: K | L18: L | M18: M | N18: N | O18: O | P18: P | Q18: Q | R18: R | X18: X | Y18: Y | Z18: Z | AA18: AA | AB18: AB | AC18: AC | AD18: AD | AE18: AE | AF18: AF | AG18: AG
D19: A scoreboard to the right of the playing grids shows how many ships each player has left in their own fleet. | H19: 6 | I19: 0 | J19: 0 | K19: 0 | L19: 0 | M19: 0 | N19: 0 | O19: 0 | P19: 0 | Q19: 0 | R19: 0 | W19: 6 | X19: 0 | Y19: 0 | Z19: 0 | AA19: 0 | AB19: 0 | AC19: 0 | AD19: 0 | AE19: 0 | AF19: 0 | AG19: 0
H20: 7 | I20: 0 | J20: 0 | K20: 0 | L20: 0 | M20: 0 | N20: 0 | O20: 0 | P20: 0 | Q20: 0 | R20: 0 | W20: 7 | X20: 0 | Y20: 0 | Z20: 0 | AA20: 0 | AB20: 0 | AC20: 0 | AD20: 0 | AE20: 0 | AF20: 0 | AG20: 0
H21: 8 | I21: 0 | J21: 0 | K21: 0 | L21: 0 | M21: 0 | N21: 0 | O21: 0 | P21: 0 | Q21: 0 | R21: 0 | W21: 8 | X21: 0 | Y21: 0 | Z21: 0 | AA21: 0 | AB21: 0 | AC21: 0 | AD21: 0 | AE21: 0 | AF21: 0 | AG21: 0
D22: The game ends when a player sinks all of their opponents FOUR ships. | H22: 9 | I22: 0 | J22: 0 | K22: 0 | L22: 0 | M22: 0 | N22: 0 | O22: 0 | P22: 0 | Q22: 0 | R22: 0 | W22: 9 | X22: 0 | Y22: 0 | Z22: 0 | AA22: 0 | AB22: 0 | AC22: 0 | AD22: 0 | AE22: 0 | AF22: 0 | AG22: 0
H23: 10 | I23: 0 | J23: 0 | K23: 0 | L23: 0 | M23: 0 | N23: 0 | O23: 0 | P23: 0 | Q23: 0 | R23: 0 | W23: 10 | X23: 0 | Y23: 0 | Z23: 0 | AA23: 0 | AB23: 0 | AC23: 0 | AD23: 0 | AE23: 0 | AF23: 0 | AG23: 0
H24: 11 | I24: 0 | J24: 0 | K24: 0 | L24: 0 | M24: 0 | N24: 0 | O24: 0 | P24: 0 | Q24: 0 | R24: 0 | W24: 11 | X24: 0 | Y24: 0 | Z24: 0 | AA24: 0 | AB24: 0 | AC24: 0 | AD24: 0 | AE24: 0 | AF24: 0 | AG24: 0
D25: To reset the game, simply quit the spreadsheet without saving and start again. | H25: 12 | I25: 0 | J25: 0 | K25: 0 | L25: 0 | M25: 0 | N25: 0 | O25: 0 | P25: 0 | Q25: 0 | R25: 0 | W25: 12 | X25: 0 | Y25: 0 | Z25: 0 | AA25: 0 | AB25: 0 | AC25: 0 | AD25: 0 | AE25: 0 | AF25: 0 | AG25: 0
H26: 13 | I26: 0 | J26: 0 | K26: 0 | L26: 0 | M26: 0 | N26: 0 | O26: 0 | P26: 0 | Q26: 0 | R26: 0 | W26: 13 | X26: 0 | Y26: 0 | Z26: 0 | AA26: 0 | AB26: 0 | AC26: 0 | AD26: 0 | AE26: 0 | AF26: 0 | AG26: 0
H27: 14 | I27: 0 | J27: 0 | K27: 0 | L27: 0 | M27: 0 | N27: 0 | O27: 0 | P27: 0 | Q27: 0 | R27: 0 | W27: 14 | X27: 0 | Y27: 0 | Z27: 0 | AA27: 0 | AB27: 0 | AC27: 0 | AD27: 0 | AE27: 0 | AF27: 0 | AG27: 0
D28: How would you change this game to make it harder? | H28: 15 | I28: 0 | J28: 0 | K28: 0 | L28: 0 | M28: 0 | N28: 0 | O28: 0 | P28: 0 | Q28: 0 | R28: 0 | W28: 15 | X28: 0 | Y28: 0 | Z28: 0 | AA28: 0 | AB28: 0 | AC28: 0 | AD28: 0 | AE28: 0 | AF28: 0 | AG28: 0
I29: Guess here | O29: Enter 1's to fire | X29: Guess here | AD29: Enter 1's to fire
I31: Player 1 | M31: =IF(BB9=0,"WINNER!","") | X31: Player 2 | AB31: =IF(BB6=0,"WINNER!","")
C34: Feedback or questions about this lab? Contact us and send us your thoughts, we'd love to hear from you!
D39: If you liked this lab, try:
D40: Sudoku Challenge
D41: Projectile Motion
D42: Lemonade Stand
BG46: What If Math - Sustainablearning © 2015

Sheet Player 1
D2: Battleship (Player 1)
X5: X | Y5: Y | Z5: Z | AA5: AA | AB5: AB | AC5: AC | AD5: AD | AE5: AE | AF5: AF | AG5: AG
D6: Place FOUR ships, each taking up 3 squares of the grid, by filling a square with a (1). You can rotate them to lay horizontal or vertical, not diagonal. You cannot stack ships onto each other. | Q6: =ROUND((12-(SUM(X6:AG15))+0.5)/3,0) -> 0 | W6: 6 | X6: 0 | Y6: 0 | Z6: 0 | AA6: 0 | AB6: 0 | AC6: 0 | AD6: 0 | AE6: 0 | AF6: 0 | AG6: 0
J7: Ships left to place | W7: 7 | X7: 0 | Y7: 0 | Z7: 0 | AA7: 0 | AB7: 0 | AC7: 0 | AD7: 0 | AE7: 0 | AF7: 0 | AG7: 1
W8: 8 | X8: 0 | Y8: 0 | Z8: 0 | AA8: 0 | AB8: 0 | AC8: 0 | AD8: 0 | AE8: 0 | AF8: 0 | AG8: 1
W9: 9 | X9: 0 | Y9: 1 | Z9: 0 | AA9: 0 | AB9: 0 | AC9: 1 | AD9: 1 | AE9: 1 | AF9: 0 | AG9: 1
W10: 10 | X10: 0 | Y10: 1 | Z10: 0 | AA10: 0 | AB10: 0 | AC10: 0 | AD10: 0 | AE10: 0 | AF10: 0 | AG10: 0
D11: Once you and your opponent have placed all your ships, return to the PLAY page. Have fun! | W11: 11 | X11: 0 | Y11: 1 | Z11: 0 | AA11: 0 | AB11: 0 | AC11: 0 | AD11: 0 | AE11: 0 | AF11: 0 | AG11: 0
W12: 12 | X12: 0 | Y12: 0 | Z12: 0 | AA12: 0 | AB12: 0 | AC12: 1 | AD12: 1 | AE12: 1 | AF12: 0 | AG12: 0
W13: 13 | X13: 0 | Y13: 0 | Z13: 0 | AA13: 0 | AB13: 0 | AC13: 0 | AD13: 0 | AE13: 0 | AF13: 0 | AG13: 0
W14: 14 | X14: 0 | Y14: 0 | Z14: 0 | AA14: 0 | AB14: 0 | AC14: 0 | AD14: 0 | AE14: 0 | AF14: 0 | AG14: 0
W15: 15 | X15: 0 | Y15: 0 | Z15: 0 | AA15: 0 | AB15: 0 | AC15: 0 | AD15: 0 | AE15: 0 | AF15: 0 | AG15: 0
D16: Enter a (1) into a square to add a ship. To delete a ship, simply enter a 0.
X17: Player 1
BG35: What If Math - Sustainablearning © 2015

Sheet Player 2
D2: Battleship (Player 2)
I5: I | J5: J | K5: K | L5: L | M5: M | N5: N | O5: O | P5: P | Q5: Q | R5: R
D6: Place FOUR ships, each taking up 3 squares of the grid, by filling a square with a (1). You can rotate them to lay horizontal or vertical, not diagonal. You cannot stack ships onto each other. | H6: 6 | I6: 0 | J6: 0 | K6: 0 | L6: 0 | M6: 0 | N6: 0 | O6: 0 | P6: 0 | Q6: 0 | R6: 0 | AB6: =ROUND((12-(SUM(I6:R15))+0.5)/3,0) -> 0
H7: 7 | I7: 0 | J7: 0 | K7: 0 | L7: 0 | M7: 0 | N7: 0 | O7: 0 | P7: 0 | Q7: 0 | R7: 0 | U7: Ships left to place
H8: 8 | I8: 0 | J8: 0 | K8: 0 | L8: 1 | M8: 0 | N8: 0 | O8: 0 | P8: 0 | Q8: 0 | R8: 0
H9: 9 | I9: 0 | J9: 0 | K9: 0 | L9: 1 | M9: 0 | N9: 0 | O9: 1 | P9: 1 | Q9: 1 | R9: 0
H10: 10 | I10: 0 | J10: 0 | K10: 0 | L10: 1 | M10: 0 | N10: 0 | O10: 0 | P10: 0 | Q10: 0 | R10: 0
D11: Once you and your opponent have placed all your ships, return to the PLAY page. Have fun! | H11: 11 | I11: 0 | J11: 0 | K11: 0 | L11: 0 | M11: 1 | N11: 0 | O11: 0 | P11: 0 | Q11: 0 | R11: 0
H12: 12 | I12: 0 | J12: 0 | K12: 0 | L12: 0 | M12: 1 | N12: 0 | O12: 0 | P12: 1 | Q12: 0 | R12: 0
H13: 13 | I13: 0 | J13: 0 | K13: 0 | L13: 0 | M13: 1 | N13: 0 | O13: 0 | P13: 1 | Q13: 0 | R13: 0
H14: 14 | I14: 0 | J14: 0 | K14: 0 | L14: 0 | M14: 0 | N14: 0 | O14: 0 | P14: 1 | Q14: 0 | R14: 0
H15: 15 | I15: 0 | J15: 0 | K15: 0 | L15: 0 | M15: 0 | N15: 0 | O15: 0 | P15: 0 | Q15: 0 | R15: 0
D16: Enter a (1) into a square to add a ship. To delete a ship, simply enter a 0.
I17: Player 2
BG35: What If Math - Sustainablearning © 2015
